BEGIN:VCALENDAR
VERSION:2.0
PRODID:SchoolNow
CALSCALE:GREGORIAN
BEGIN:VEVENT
UID:97457772-289b-11f1-8151-02f312a08f31
DTSTAMP:20260421T132513Z
SUMMARY:Kinder field trip to Santa Ana Zoo
URL;VALUE=URI:https://www.tusd.org/schools/wood/calendar/8945542/kinder-fie
 ld-trip-to-santa-ana-zoo
DTSTART;VALUE=DATE:20260430
DTEND;VALUE=DATE:20260501
END:VEVENT
END:VCALENDAR
