BEGIN:VCALENDAR
VERSION:2.0
PRODID:SchoolNow
CALSCALE:GREGORIAN
BEGIN:VEVENT
UID:97455328-289b-11f1-82d8-02f312a08f31
DTSTAMP:20260422T074012Z
SUMMARY:TK field trip to the famer's market
URL;VALUE=URI:https://www.tusd.org/schools/wood/calendar/8945541/tk-field-t
 rip-to-the-famers-market
DTSTART;VALUE=DATE:20260428
DTEND;VALUE=DATE:20260429
END:VEVENT
END:VCALENDAR
