BEGIN:VCALENDAR
VERSION:2.0
PRODID:SchoolNow
CALSCALE:GREGORIAN
BEGIN:VEVENT
UID:abb9dd2c-2703-11f1-9ebe-0a58a9feac02
DTSTAMP:20260422T074012Z
SUMMARY:Spirit Day: Baseball/Softball Day
URL;VALUE=URI:https://www.tusd.org/schools/wood/calendar/8940270/spirit-day
 -baseball-softball-day
DTSTART;VALUE=DATE:20260417
DTEND;VALUE=DATE:20260418
END:VEVENT
END:VCALENDAR
