BEGIN:VCALENDAR
VERSION:2.0
PRODID:SchoolNow
CALSCALE:GREGORIAN
BEGIN:VEVENT
UID:abb9dbf6-2703-11f1-af5c-0a58a9feac02
DTSTAMP:20260422T074012Z
SUMMARY:TUSD Track Meet at West
URL;VALUE=URI:https://www.tusd.org/schools/wood/calendar/8940269/tusd-track
 -meet-at-west
DTSTART;VALUE=DATE:20260529
DTEND;VALUE=DATE:20260530
END:VEVENT
END:VCALENDAR
