BEGIN:VCALENDAR
VERSION:2.0
PRODID:SchoolNow
CALSCALE:GREGORIAN
BEGIN:VEVENT
UID:abb9d8ea-2703-11f1-a35a-0a58a9feac02
DTSTAMP:20260420T130514Z
SUMMARY:Spirit Day: Multicultural Day
URL;VALUE=URI:https://www.tusd.org/schools/wood/calendar/8940268/spirit-day
 -multicultural-day
DTSTART;VALUE=DATE:20260430
DTEND;VALUE=DATE:20260501
END:VEVENT
END:VCALENDAR
