BEGIN:VCALENDAR
VERSION:2.0
PRODID:SchoolNow
CALSCALE:GREGORIAN
BEGIN:VEVENT
UID:abb9d6ec-2703-11f1-bc69-0a58a9feac02
DTSTAMP:20260420T130514Z
SUMMARY:Spirit Day: Wear Black & White
URL;VALUE=URI:https://www.tusd.org/schools/wood/calendar/8940267/spirit-day
 -wear-black-white
DTSTART;VALUE=DATE:20260424
DTEND;VALUE=DATE:20260425
END:VEVENT
END:VCALENDAR
