BEGIN:VCALENDAR
VERSION:2.0
PRODID:SchoolNow
CALSCALE:GREGORIAN
BEGIN:VEVENT
UID:abb9d52a-2703-11f1-a855-0a58a9feac02
DTSTAMP:20260422T134514Z
SUMMARY:Fun Run
URL;VALUE=URI:https://www.tusd.org/schools/wood/calendar/8940266/fun-run
DTSTART;VALUE=DATE:20260605
DTEND;VALUE=DATE:20260606
END:VEVENT
END:VCALENDAR
