BEGIN:VCALENDAR
VERSION:2.0
PRODID:SchoolNow
CALSCALE:GREGORIAN
BEGIN:VEVENT
UID:abb9d23c-2703-11f1-b5e3-0a58a9feac02
DTSTAMP:20260420T130514Z
SUMMARY:Spirit Day: Pattern Day
URL;VALUE=URI:https://www.tusd.org/schools/wood/calendar/8940264/spirit-day
 -pattern-day
DTSTART;VALUE=DATE:20260410
DTEND;VALUE=DATE:20260411
END:VEVENT
END:VCALENDAR
