BEGIN:VCALENDAR
VERSION:2.0
PRODID:SchoolNow
CALSCALE:GREGORIAN
BEGIN:VEVENT
UID:abb9ce4a-2703-11f1-8d9f-0a58a9feac02
DTSTAMP:20260422T074012Z
SUMMARY:Spirit Day: Wear your grade level colors
URL;VALUE=URI:https://www.tusd.org/schools/wood/calendar/8940263/spirit-day
 -wear-your-grade-level-colors
DTSTART;VALUE=DATE:20260508
DTEND;VALUE=DATE:20260509
END:VEVENT
END:VCALENDAR
