BEGIN:VCALENDAR
VERSION:2.0
PRODID:SchoolNow
CALSCALE:GREGORIAN
BEGIN:VEVENT
UID:4b51e0d0-223d-11f1-a03d-023bbda7f2bd
DTSTAMP:20260420T130514Z
SUMMARY:Volunteer Breakfast 8:30
URL;VALUE=URI:https://www.tusd.org/schools/wood/calendar/8925713/volunteer-
 breakfast-8-30
DTSTART;VALUE=DATE:20260423
DTEND;VALUE=DATE:20260424
END:VEVENT
END:VCALENDAR
