BEGIN:VCALENDAR
VERSION:2.0
PRODID:SchoolNow
CALSCALE:GREGORIAN
BEGIN:VEVENT
UID:8030e9c2-1e41-11f1-b6fb-0a58a9feac02
DTSTAMP:20260422T074012Z
SUMMARY:Central Area Basketball Game at THS
URL;VALUE=URI:https://www.tusd.org/schools/wood/calendar/8912977/central-ar
 ea-basketball-game-at-ths
DTSTART;VALUE=DATE:20260514
DTEND;VALUE=DATE:20260515
END:VEVENT
END:VCALENDAR
