BEGIN:VCALENDAR
VERSION:2.0
PRODID:SchoolNow
CALSCALE:GREGORIAN
BEGIN:VEVENT
UID:9beb5f36-1c10-11f1-8ef4-0affdfb313f1
DTSTAMP:20260422T074012Z
SUMMARY:PTA - Multicultural Night
URL;VALUE=URI:https://www.tusd.org/schools/wood/calendar/8905241/pta-multic
 ultural-night
DTSTART;VALUE=DATE:20260430
DTEND;VALUE=DATE:20260501
END:VEVENT
END:VCALENDAR
