BEGIN:VCALENDAR
VERSION:2.0
PRODID:SchoolNow
CALSCALE:GREGORIAN
BEGIN:VEVENT
UID:d00a1456-1814-11f1-a848-0affc76a5c4d
DTSTAMP:20260420T130514Z
SUMMARY:Talent Show at THS 6pm
URL;VALUE=URI:https://www.tusd.org/schools/wood/calendar/8891019/talent-sho
 w-at-ths-6pm
DTSTART;VALUE=DATE:20260326
DTEND;VALUE=DATE:20260327
END:VEVENT
END:VCALENDAR
