BEGIN:VCALENDAR
VERSION:2.0
PRODID:SchoolNow
CALSCALE:GREGORIAN
BEGIN:VEVENT
UID:e59a5bda-167c-11f1-a3be-02525495dac3
DTSTAMP:20260420T130514Z
SUMMARY:Spirit Day: Cartoon Character Day
URL;VALUE=URI:https://www.tusd.org/schools/wood/calendar/8885097/spirit-day
 -cartoon-character-day
DTSTART;VALUE=DATE:20260313
DTEND;VALUE=DATE:20260314
END:VEVENT
END:VCALENDAR
