BEGIN:VCALENDAR
VERSION:2.0
PRODID:SchoolNow
CALSCALE:GREGORIAN
BEGIN:VEVENT
UID:0b95863a-12b2-11f1-ae75-0affe8178c75
DTSTAMP:20260420T130514Z
SUMMARY:Student Free Day - No School
URL;VALUE=URI:https://www.tusd.org/schools/wood/calendar/8871898/student-fr
 ee-day-no-school
DTSTART;VALUE=DATE:20260306
DTEND;VALUE=DATE:20260307
END:VEVENT
END:VCALENDAR
