BEGIN:VCALENDAR
VERSION:2.0
PRODID:SchoolNow
CALSCALE:GREGORIAN
BEGIN:VEVENT
UID:14872da0-111a-11f1-87f3-0a58a9feac02
DTSTAMP:20260422T074012Z
SUMMARY:Wood Bike Rodeo Afterschool 3rd-5th graders
URL;VALUE=URI:https://www.tusd.org/schools/wood/calendar/8867838/wood-bike-
 rodeo-afterschool-3rd-5th-graders
DTSTART;VALUE=DATE:20260410
DTEND;VALUE=DATE:20260411
END:VEVENT
END:VCALENDAR
