BEGIN:VCALENDAR
VERSION:2.0
PRODID:SchoolNow
CALSCALE:GREGORIAN
BEGIN:VEVENT
UID:5249dfec-0c52-11f1-8ef3-0a58a9feac02
DTSTAMP:20260420T130514Z
SUMMARY:ELMAC Meeting #3
URL;VALUE=URI:https://www.tusd.org/schools/wood/calendar/8858058/elmac-meet
 ing-3
DTSTART;VALUE=DATE:20260225
DTEND;VALUE=DATE:20260226
END:VEVENT
END:VCALENDAR
