BEGIN:VCALENDAR
VERSION:2.0
PRODID:SchoolNow
CALSCALE:GREGORIAN
BEGIN:VEVENT
UID:6c99c7fe-0a54-11f1-bd10-028361e5e161
DTSTAMP:20260420T130514Z
SUMMARY:Math Field Day competition @ JH Hull M.S.
URL;VALUE=URI:https://www.tusd.org/schools/wood/calendar/8856341/math-field
 -day-competition-jh-hull-m-s
DTSTART;VALUE=DATE:20260321
DTEND;VALUE=DATE:20260322
END:VEVENT
END:VCALENDAR
