BEGIN:VCALENDAR
VERSION:2.0
PRODID:SchoolNow
CALSCALE:GREGORIAN
BEGIN:VEVENT
UID:893d74a4-0889-11f1-9538-0ebaa7c35ecb
DTSTAMP:20260422T074012Z
SUMMARY:4th Grade Pioneer Day
URL;VALUE=URI:https://www.tusd.org/schools/wood/calendar/8854641/4th-grade-
 pioneer-day
DTSTART;VALUE=DATE:20260527
DTEND;VALUE=DATE:20260528
END:VEVENT
END:VCALENDAR
