BEGIN:VCALENDAR
VERSION:2.0
PRODID:SchoolNow
CALSCALE:GREGORIAN
BEGIN:VEVENT
UID:9a6ed528-06be-11f1-96d2-0a58a9feac02
DTSTAMP:20260422T074012Z
SUMMARY:Local Non Instruction Day - No School
URL;VALUE=URI:https://www.tusd.org/schools/wood/calendar/8852330/local-non-
 instruction-day-no-school
DTSTART;VALUE=DATE:20260501
DTEND;VALUE=DATE:20260502
END:VEVENT
END:VCALENDAR
