BEGIN:VCALENDAR
VERSION:2.0
PRODID:SchoolNow
CALSCALE:GREGORIAN
BEGIN:VEVENT
UID:ac6924a6-0559-11f1-ae71-0a58a9feac02
DTSTAMP:20260420T130514Z
SUMMARY:Spring break
URL;VALUE=URI:https://www.tusd.org/schools/wood/calendar/8851302/spring-bre
 ak
DTSTART;VALUE=DATE:20260330
DTEND;VALUE=DATE:20260404
END:VEVENT
END:VCALENDAR
