BEGIN:VCALENDAR
VERSION:2.0
PRODID:SchoolNow
CALSCALE:GREGORIAN
BEGIN:VEVENT
UID:98df4190-f339-11f0-b5a3-0a58a9feac02
DTSTAMP:20260420T130514Z
SUMMARY:Kindergarten Field Trip - James Armstrong Theater
URL;VALUE=URI:https://www.tusd.org/schools/wood/calendar/8837345/kindergart
 en-field-trip-james-armstrong-theater
DTSTART;VALUE=DATE:20260416
DTEND;VALUE=DATE:20260417
END:VEVENT
END:VCALENDAR
