BEGIN:VCALENDAR
VERSION:2.0
PRODID:SchoolNow
CALSCALE:GREGORIAN
BEGIN:VEVENT
UID:0ac86cc2-ea76-11f0-87a7-0affd398abcd
DTSTAMP:20260420T130514Z
SUMMARY:Operation Teddy Bear Volunteers in Room 9 & 10
URL;VALUE=URI:https://www.tusd.org/schools/wood/calendar/8828928/operation-
 teddy-bear-volunteers-in-room-9-10
DTSTART;VALUE=DATE:20260317
DTEND;VALUE=DATE:20260318
END:VEVENT
END:VCALENDAR
