BEGIN:VCALENDAR
VERSION:2.0
PRODID:SchoolNow
CALSCALE:GREGORIAN
BEGIN:VEVENT
UID:501cff1a-e515-11f0-b3d6-0a58a9feac02
DTSTAMP:20260420T191013Z
SUMMARY:Room 10 Field Trip to The Armory Arts Center in Pasadena
URL;VALUE=URI:https://www.tusd.org/schools/wood/calendar/8827670/room-10-fi
 eld-trip-to-the-armory-arts-center-in-pasadena
DTSTART;VALUE=DATE:20260123
DTEND;VALUE=DATE:20260124
END:VEVENT
END:VCALENDAR
