BEGIN:VCALENDAR
VERSION:2.0
PRODID:SchoolNow
CALSCALE:GREGORIAN
BEGIN:VEVENT
UID:501cfb0a-e515-11f0-a3a7-0a58a9feac02
DTSTAMP:20260420T191013Z
SUMMARY:Room 9 Field Trip to The Armory Arts Center in Pasadena
URL;VALUE=URI:https://www.tusd.org/schools/wood/calendar/8827669/room-9-fie
 ld-trip-to-the-armory-arts-center-in-pasadena
DTSTART;VALUE=DATE:20260122
DTEND;VALUE=DATE:20260123
END:VEVENT
END:VCALENDAR
