BEGIN:VCALENDAR
VERSION:2.0
PRODID:SchoolNow
CALSCALE:GREGORIAN
BEGIN:VEVENT
UID:c37e3356-dc51-11f0-a82d-0a58a9feac02
DTSTAMP:20260420T191013Z
SUMMARY:Spirit Day: Disney Day
URL;VALUE=URI:https://www.tusd.org/schools/wood/calendar/8825905/spirit-day
 -disney-day
DTSTART;VALUE=DATE:20260130
DTEND;VALUE=DATE:20260131
END:VEVENT
END:VCALENDAR
