BEGIN:VCALENDAR
VERSION:2.0
PRODID:SchoolNow
CALSCALE:GREGORIAN
BEGIN:VEVENT
UID:c37e3018-dc51-11f0-8e6f-0a58a9feac02
DTSTAMP:20260420T191013Z
SUMMARY:Spirit Day: College Day
URL;VALUE=URI:https://www.tusd.org/schools/wood/calendar/8825904/spirit-day
 -college-day
DTSTART;VALUE=DATE:20260123
DTEND;VALUE=DATE:20260124
END:VEVENT
END:VCALENDAR
