BEGIN:VCALENDAR
VERSION:2.0
PRODID:SchoolNow
CALSCALE:GREGORIAN
BEGIN:VEVENT
UID:c37e2ec4-dc51-11f0-930c-0a58a9feac02
DTSTAMP:20260420T191013Z
SUMMARY:Spirit Day: Hat Day
URL;VALUE=URI:https://www.tusd.org/schools/wood/calendar/8825903/spirit-day
 -hat-day
DTSTART;VALUE=DATE:20260116
DTEND;VALUE=DATE:20260117
END:VEVENT
END:VCALENDAR
