BEGIN:VCALENDAR
VERSION:2.0
PRODID:SchoolNow
CALSCALE:GREGORIAN
BEGIN:VEVENT
UID:c37e2d52-dc51-11f0-bfb3-0a58a9feac02
DTSTAMP:20260420T191013Z
SUMMARY:Spirit Day: Wear One Color
URL;VALUE=URI:https://www.tusd.org/schools/wood/calendar/8825902/spirit-day
 -wear-one-color
DTSTART;VALUE=DATE:20260109
DTEND;VALUE=DATE:20260110
END:VEVENT
END:VCALENDAR
