BEGIN:VCALENDAR
VERSION:2.0
PRODID:SchoolNow
CALSCALE:GREGORIAN
BEGIN:VEVENT
UID:c37e2bd6-dc51-11f0-b1de-0a58a9feac02
DTSTAMP:20260420T130514Z
SUMMARY:Spirit Day: Tye Dye Day
URL;VALUE=URI:https://www.tusd.org/schools/wood/calendar/8825901/spirit-day
 -tye-dye-day
DTSTART;VALUE=DATE:20260227
DTEND;VALUE=DATE:20260228
END:VEVENT
END:VCALENDAR
