BEGIN:VCALENDAR
VERSION:2.0
PRODID:SchoolNow
CALSCALE:GREGORIAN
BEGIN:VEVENT
UID:e31d3656-dab9-11f0-871d-0a58a9feac02
DTSTAMP:20260420T130514Z
SUMMARY:Island Inspirations Assembly in Cafe - TK-2nd\; 2:15 3rd-5th
URL;VALUE=URI:https://www.tusd.org/schools/wood/calendar/8825078/island-ins
 pirations-assembly-in-cafe-tk-2nd-2-15-3rd-5th
DTSTART;VALUE=DATE:20260424
DTEND;VALUE=DATE:20260425
END:VEVENT
END:VCALENDAR
