BEGIN:VCALENDAR
VERSION:2.0
PRODID:SchoolNow
CALSCALE:GREGORIAN
BEGIN:VEVENT
UID:250f431c-d559-11f0-aecb-02276c3d693b
DTSTAMP:20260422T074012Z
SUMMARY:2nd grade field trip Natural History Museum
URL;VALUE=URI:https://www.tusd.org/schools/wood/calendar/8820866/2nd-grade-
 field-trip-natural-history-museum
DTSTART;VALUE=DATE:20260410
DTEND;VALUE=DATE:20260411
END:VEVENT
END:VCALENDAR
