BEGIN:VCALENDAR
VERSION:2.0
PRODID:SchoolNow
CALSCALE:GREGORIAN
BEGIN:VEVENT
UID:93ae50e8-b910-11f0-a976-0a58a9feac02
DTSTAMP:20260420T191013Z
SUMMARY:Winter Break
URL;VALUE=URI:https://www.tusd.org/schools/wood/calendar/8774216/winter-bre
 ak
DTSTART;VALUE=DATE:20251222
DTEND;VALUE=DATE:20260103
END:VEVENT
END:VCALENDAR
