BEGIN:VCALENDAR
VERSION:2.0
PRODID:SchoolNow
CALSCALE:GREGORIAN
BEGIN:VEVENT
UID:d1914cee-b415-11f0-b700-0a58a9feac02
DTSTAMP:20260420T130514Z
SUMMARY:4th Grade Squid Dissection - Science Lab
URL;VALUE=URI:https://www.tusd.org/schools/wood/calendar/8757026/4th-grade-
 squid-dissection-science-lab
DTSTART;VALUE=DATE:20260226
DTEND;VALUE=DATE:20260227
END:VEVENT
END:VCALENDAR
