BEGIN:VCALENDAR
VERSION:2.0
PRODID:SchoolNow
CALSCALE:GREGORIAN
BEGIN:VEVENT
UID:cbfba386-8f55-11f0-89b8-0afff8fd8317
DTSTAMP:20260422T074012Z
SUMMARY:Shelter in Place
URL;VALUE=URI:https://www.tusd.org/schools/wood/calendar/8610395/shelter-in
 -place
DTSTART;VALUE=DATE:20260506
DTEND;VALUE=DATE:20260507
END:VEVENT
END:VCALENDAR
