BEGIN:VCALENDAR
VERSION:2.0
PRODID:SchoolNow
CALSCALE:GREGORIAN
BEGIN:VEVENT
UID:cbfba1ce-8f55-11f0-8261-0afff8fd8317
DTSTAMP:20260420T130514Z
SUMMARY:Fire Drill
URL;VALUE=URI:https://www.tusd.org/schools/wood/calendar/8610393/fire-drill
DTSTART;VALUE=DATE:20260316
DTEND;VALUE=DATE:20260317
END:VEVENT
END:VCALENDAR
