BEGIN:VCALENDAR
VERSION:2.0
PRODID:SchoolNow
CALSCALE:GREGORIAN
BEGIN:VEVENT
UID:cbfba0f2-8f55-11f0-890d-0afff8fd8317
DTSTAMP:20260420T130514Z
SUMMARY:Lockdown Drill
URL;VALUE=URI:https://www.tusd.org/schools/wood/calendar/8610392/lockdown-d
 rill
DTSTART;VALUE=DATE:20260305
DTEND;VALUE=DATE:20260306
END:VEVENT
END:VCALENDAR
