BEGIN:VCALENDAR
VERSION:2.0
PRODID:SchoolNow
CALSCALE:GREGORIAN
BEGIN:VEVENT
UID:cbfb9e40-8f55-11f0-97ec-0afff8fd8317
DTSTAMP:20260420T191013Z
SUMMARY:Earthquake Drill
URL;VALUE=URI:https://www.tusd.org/schools/wood/calendar/8610389/earthquake
 -drill
DTSTART;VALUE=DATE:20260108
DTEND;VALUE=DATE:20260109
END:VEVENT
END:VCALENDAR
