BEGIN:VCALENDAR
VERSION:2.0
PRODID:SchoolNow
CALSCALE:GREGORIAN
BEGIN:VEVENT
UID:6dda917e-005b-11f0-8963-0affd2977e11
DTSTAMP:20260420T130514Z
SUMMARY:Spring Picture Day
URL;VALUE=URI:https://www.tusd.org/schools/wood/calendar/7676619/spring-pic
 ture-day
DTSTART;VALUE=DATE:20260319
DTEND;VALUE=DATE:20260320
END:VEVENT
END:VCALENDAR
