BEGIN:VCALENDAR
VERSION:2.0
PRODID:SchoolNow
CALSCALE:GREGORIAN
BEGIN:VEVENT
UID:035a351e-3db5-11f1-9342-0a58a9feac02
DTSTAMP:20260423T073507Z
SUMMARY:West High's Best Dance Crew in the Gym
LOCATION:Gym
URL;VALUE=URI:https://www.tusd.org/schools/west-high-school/calendar/900966
 3/west-highs-best-dance-crew-in-the-gym
DTSTART:20260430T020000Z
DTEND:20260430T030000Z
END:VEVENT
END:VCALENDAR
