BEGIN:VCALENDAR
VERSION:2.0
PRODID:SchoolNow
CALSCALE:GREGORIAN
BEGIN:VEVENT
UID:87784cec-338c-11f1-a44e-0a58a9feac02
DTSTAMP:20260423T073507Z
SUMMARY:Drama Senior Directed Showcase
LOCATION:PAC
URL;VALUE=URI:https://www.tusd.org/schools/west-high-school/calendar/897993
 4/drama-senior-directed-showcase
DTSTART:20260515T020000Z
DTEND:20260515T030000Z
END:VEVENT
END:VCALENDAR
