BEGIN:VCALENDAR
VERSION:2.0
PRODID:SchoolNow
CALSCALE:GREGORIAN
BEGIN:VEVENT
UID:373eec64-2d2d-11f1-8b11-0a58a9feac02
DTSTAMP:20260423T073507Z
SUMMARY:CAASPP Testing Math Odd Block (Periods 0\,1\,3\,5) Schedule
URL;VALUE=URI:https://www.tusd.org/schools/west-high-school/calendar/896088
 1/caaspp-testing-math-odd-block-periods-0-1-3-5-schedule
DTSTART;VALUE=DATE:20260415
DTEND;VALUE=DATE:20260416
END:VEVENT
END:VCALENDAR
