BEGIN:VCALENDAR
VERSION:2.0
PRODID:SchoolNow
CALSCALE:GREGORIAN
BEGIN:VEVENT
UID:373eea20-2d2d-11f1-b719-0a58a9feac02
DTSTAMP:20260423T073507Z
SUMMARY:Night Market
LOCATION:PAC
URL;VALUE=URI:https://www.tusd.org/schools/west-high-school/calendar/896088
 0/night-market
DTSTART:20260207T013000Z
DTEND:20260207T023000Z
END:VEVENT
END:VCALENDAR
