BEGIN:VCALENDAR
VERSION:2.0
PRODID:SchoolNow
CALSCALE:GREGORIAN
BEGIN:VEVENT
UID:373ee58e-2d2d-11f1-96e7-0a58a9feac02
DTSTAMP:20260423T073507Z
SUMMARY:Grease Sing-A-Long\, 12-3pm in the PAC
LOCATION:PAC
URL;VALUE=URI:https://www.tusd.org/schools/west-high-school/calendar/896087
 7/grease-sing-a-long-12-3pm-in-the-pac
DTSTART:20260314T190000Z
DTEND:20260314T220000Z
END:VEVENT
END:VCALENDAR
