BEGIN:VCALENDAR
VERSION:2.0
PRODID:SchoolNow
CALSCALE:GREGORIAN
BEGIN:VEVENT
UID:373ee480-2d2d-11f1-8bc2-0a58a9feac02
DTSTAMP:20260423T073507Z
SUMMARY:CAASPP Testing English Odd Block (Periods 0\,1\,3\,5) Schedule
URL;VALUE=URI:https://www.tusd.org/schools/west-high-school/calendar/896087
 6/caaspp-testing-english-odd-block-periods-0-1-3-5-schedule
DTSTART;VALUE=DATE:20260421
DTEND;VALUE=DATE:20260422
END:VEVENT
END:VCALENDAR
