BEGIN:VCALENDAR
VERSION:2.0
PRODID:SchoolNow
CALSCALE:GREGORIAN
BEGIN:VEVENT
UID:373edcce-2d2d-11f1-8ea0-0a58a9feac02
DTSTAMP:20260423T073507Z
SUMMARY:Spring Musical Performance in the PAC
LOCATION:PAC
URL;VALUE=URI:https://www.tusd.org/schools/west-high-school/calendar/896087
 4/spring-musical-performance-in-the-pac
DTSTART:20260315T010000Z
DTEND:20260315T030000Z
END:VEVENT
END:VCALENDAR
