BEGIN:VCALENDAR
VERSION:2.0
PRODID:SchoolNow
CALSCALE:GREGORIAN
BEGIN:VEVENT
UID:373ed602-2d2d-11f1-bef8-0a58a9feac02
DTSTAMP:20260423T073507Z
SUMMARY:CAASPP Testing Math Even Block (Periods 0\,2\,4\,6) Schedule
URL;VALUE=URI:https://www.tusd.org/schools/west-high-school/calendar/896087
 1/caaspp-testing-math-even-block-periods-0-2-4-6-schedule
DTSTART;VALUE=DATE:20260414
DTEND;VALUE=DATE:20260415
END:VEVENT
END:VCALENDAR
