BEGIN:VCALENDAR
VERSION:2.0
PRODID:SchoolNow
CALSCALE:GREGORIAN
BEGIN:VEVENT
UID:d31e9022-7d78-11f0-9782-0a58a9feac02
DTSTAMP:20260423T073507Z
SUMMARY:Dance Spring Showcase in the PAC
LOCATION:PAC
URL;VALUE=URI:https://www.tusd.org/schools/west-high-school/calendar/852359
 6/dance-spring-showcase-in-the-pac
DTSTART:20260529T020000Z
DTEND:20260529T030000Z
END:VEVENT
END:VCALENDAR
