BEGIN:VCALENDAR
VERSION:2.0
PRODID:SchoolNow
CALSCALE:GREGORIAN
BEGIN:VEVENT
UID:53794878-73e9-11f0-880b-0a58a9feac02
DTSTAMP:20260423T073507Z
SUMMARY:No Late Start
URL;VALUE=URI:https://www.tusd.org/schools/west-high-school/calendar/848094
 0/no-late-start
DTSTART;VALUE=DATE:20260602
DTEND;VALUE=DATE:20260603
END:VEVENT
END:VCALENDAR
