BEGIN:VCALENDAR
VERSION:2.0
PRODID:SchoolNow
CALSCALE:GREGORIAN
BEGIN:VEVENT
UID:6c84eb18-7251-11f0-ab34-029ea1ab5cf7
DTSTAMP:20260423T073507Z
SUMMARY:End of 2nd Semester
URL;VALUE=URI:https://www.tusd.org/schools/west-high-school/calendar/847376
 1/end-of-2nd-semester
DTSTART;VALUE=DATE:20260611
DTEND;VALUE=DATE:20260612
END:VEVENT
END:VCALENDAR
